BEGIN:VCALENDAR
VERSION:2.0
PRODID:-//Kronberger Malerkolonie - ECPv6.15.20//NONSGML v1.0//EN
CALSCALE:GREGORIAN
METHOD:PUBLISH
X-ORIGINAL-URL:https://kronberger-malerkolonie.com
X-WR-CALDESC:Veranstaltungen für Kronberger Malerkolonie
REFRESH-INTERVAL;VALUE=DURATION:PT1H
X-Robots-Tag:noindex
X-PUBLISHED-TTL:PT1H
BEGIN:VTIMEZONE
TZID:Europe/Berlin
BEGIN:DAYLIGHT
TZOFFSETFROM:+0100
TZOFFSETTO:+0200
TZNAME:CEST
DTSTART:20240331T010000
END:DAYLIGHT
BEGIN:STANDARD
TZOFFSETFROM:+0200
TZOFFSETTO:+0100
TZNAME:CET
DTSTART:20241027T010000
END:STANDARD
BEGIN:DAYLIGHT
TZOFFSETFROM:+0100
TZOFFSETTO:+0200
TZNAME:CEST
DTSTART:20250330T010000
END:DAYLIGHT
BEGIN:STANDARD
TZOFFSETFROM:+0200
TZOFFSETTO:+0100
TZNAME:CET
DTSTART:20251026T010000
END:STANDARD
BEGIN:DAYLIGHT
TZOFFSETFROM:+0100
TZOFFSETTO:+0200
TZNAME:CEST
DTSTART:20260329T010000
END:DAYLIGHT
BEGIN:STANDARD
TZOFFSETFROM:+0200
TZOFFSETTO:+0100
TZNAME:CET
DTSTART:20261025T010000
END:STANDARD
END:VTIMEZONE
BEGIN:VEVENT
DTSTART;TZID=Europe/Berlin:20250802T120000
DTEND;TZID=Europe/Berlin:20250802T180000
DTSTAMP:20260422T122701
CREATED:20250626T185642Z
LAST-MODIFIED:20250626T192029Z
UID:10004140-1754136000-1754157600@kronberger-malerkolonie.com
SUMMARY:Sammellust 2
DESCRIPTION:
URL:https://kronberger-malerkolonie.com/veranstaltung/sammellust-2/2025-08-02/
CATEGORIES:AKTUELLE AUSSTELLUNG,MUSEUM
ATTACH;FMTTYPE=image/webp:https://kronberger-malerkolonie.com/wp-content/uploads/2025/06/Ferdinand-Bruett_Sonntagsspaziergang.webp
END:VEVENT
BEGIN:VEVENT
DTSTART;TZID=Europe/Berlin:20250803T110000
DTEND;TZID=Europe/Berlin:20250803T180000
DTSTAMP:20260422T122701
CREATED:20250626T185642Z
LAST-MODIFIED:20250626T192029Z
UID:10004141-1754218800-1754244000@kronberger-malerkolonie.com
SUMMARY:Sammellust 2
DESCRIPTION:
URL:https://kronberger-malerkolonie.com/veranstaltung/sammellust-2/2025-08-03/
CATEGORIES:AKTUELLE AUSSTELLUNG,MUSEUM
ATTACH;FMTTYPE=image/webp:https://kronberger-malerkolonie.com/wp-content/uploads/2025/06/Ferdinand-Bruett_Sonntagsspaziergang.webp
END:VEVENT
BEGIN:VEVENT
DTSTART;TZID=Europe/Berlin:20250806T150000
DTEND;TZID=Europe/Berlin:20250806T180000
DTSTAMP:20260422T122701
CREATED:20250626T185642Z
LAST-MODIFIED:20250626T192029Z
UID:10004142-1754492400-1754503200@kronberger-malerkolonie.com
SUMMARY:Sammellust 2
DESCRIPTION:
URL:https://kronberger-malerkolonie.com/veranstaltung/sammellust-2/2025-08-06/
CATEGORIES:AKTUELLE AUSSTELLUNG,MUSEUM
ATTACH;FMTTYPE=image/webp:https://kronberger-malerkolonie.com/wp-content/uploads/2025/06/Ferdinand-Bruett_Sonntagsspaziergang.webp
END:VEVENT
BEGIN:VEVENT
DTSTART;TZID=Europe/Berlin:20250809T120000
DTEND;TZID=Europe/Berlin:20250809T180000
DTSTAMP:20260422T122701
CREATED:20250626T185642Z
LAST-MODIFIED:20250626T192029Z
UID:10004143-1754740800-1754762400@kronberger-malerkolonie.com
SUMMARY:Sammellust 2
DESCRIPTION:
URL:https://kronberger-malerkolonie.com/veranstaltung/sammellust-2/2025-08-09/
CATEGORIES:AKTUELLE AUSSTELLUNG,MUSEUM
ATTACH;FMTTYPE=image/webp:https://kronberger-malerkolonie.com/wp-content/uploads/2025/06/Ferdinand-Bruett_Sonntagsspaziergang.webp
END:VEVENT
BEGIN:VEVENT
DTSTART;TZID=Europe/Berlin:20250810T110000
DTEND;TZID=Europe/Berlin:20250810T180000
DTSTAMP:20260422T122701
CREATED:20250626T185642Z
LAST-MODIFIED:20250626T192029Z
UID:10004144-1754823600-1754848800@kronberger-malerkolonie.com
SUMMARY:Sammellust 2
DESCRIPTION:
URL:https://kronberger-malerkolonie.com/veranstaltung/sammellust-2/2025-08-10/
CATEGORIES:AKTUELLE AUSSTELLUNG,MUSEUM
ATTACH;FMTTYPE=image/webp:https://kronberger-malerkolonie.com/wp-content/uploads/2025/06/Ferdinand-Bruett_Sonntagsspaziergang.webp
END:VEVENT
BEGIN:VEVENT
DTSTART;TZID=Europe/Berlin:20250811T090000
DTEND;TZID=Europe/Berlin:20250811T130000
DTSTAMP:20260422T122701
CREATED:20250303T131340Z
LAST-MODIFIED:20250320T112907Z
UID:10003240-1754902800-1754917200@kronberger-malerkolonie.com
SUMMARY:Sommerferien Workshop | SFWS 05
DESCRIPTION:SFWS 05\nMo .\,11.08. – Fr.\, 15.08.2025\n09:00 – 13:00 Uhr \n5 Termine \nAlter: ab 5 Jahre \nTeilnehmer: max. 12 Kinder \nDozent: Bernd Reich \nPreis: EUR 145\,00 \n\nGetränk und Pausenbrot nicht vergessen! \n\n	\n\n\n			\n		\n			\n														\n				\n	\n\n														Bernd Reich\n			\n														\n								\n													\n				\n																		\n						Gallerie					\n														\n		\n												\n					\n						Bernd Reich					\n				\n			\n										Bernd Reich\, Dozenten					\n		\n						\n	\n\n\n\n			\n			\n																																																																				\n	\n	Bernd ReichBernd Reich hat 2001 das Studium der freien Malerei\, Bildhauerei und des freien Zeichnens an der Hochschule für Gestaltung Offenbach am Main abgeschlossen. Seit 1996 hatte der Künstler zahlreiche Ausstellungsbeteiligungen in  Kunstvereinen und Galerien sowie in der Allgemeinen Hypothekenbank und der Art Frankfurt. Seit 2003 ist er als Dozent an der Kunstschule tätig. \nWorkshop für Erwachsene: Zeit für Kunst Workshop. Time for Art. \nKurse für Kinder im Vorschulalter und Schulalter sowie Geburtstags- und Ferienworkshops.\nCourses for preschool and for school-aged children as well as workshops for birthdays and during holidays. \n\n\nJetzt anmelden:\nEine Anmeldung per E-Mail ist erforderlich! Bitte melden Sie sich hier an.
URL:https://kronberger-malerkolonie.com/veranstaltung/sommerferienworkshop-sfws-05/2025-08-11/
LOCATION:Kunstschule Kronberg im Taunus\, Heinrich-Winter-Straße 4a\, Kronberg im Taunus\, 61476\, Germany
CATEGORIES:KUNSTSCHULE,KURSE FÜR KINDER
ORGANIZER;CN="Stiftung Kronberger Malerkolonie und Museumsgesellschaft Kronberg e. V.":MAILTO:info@kronberger-malerkolonie.com
END:VEVENT
BEGIN:VEVENT
DTSTART;TZID=Europe/Berlin:20250812T090000
DTEND;TZID=Europe/Berlin:20250812T130000
DTSTAMP:20260422T122701
CREATED:20250303T131340Z
LAST-MODIFIED:20250320T112907Z
UID:10003241-1754989200-1755003600@kronberger-malerkolonie.com
SUMMARY:Sommerferien Workshop | SFWS 05
DESCRIPTION:SFWS 05\nMo .\,11.08. – Fr.\, 15.08.2025\n09:00 – 13:00 Uhr \n5 Termine \nAlter: ab 5 Jahre \nTeilnehmer: max. 12 Kinder \nDozent: Bernd Reich \nPreis: EUR 145\,00 \n\nGetränk und Pausenbrot nicht vergessen! \n\n	\n\n\n			\n		\n			\n														\n				\n	\n\n														Bernd Reich\n			\n														\n								\n													\n				\n																		\n						Gallerie					\n														\n		\n												\n					\n						Bernd Reich					\n				\n			\n										Bernd Reich\, Dozenten					\n		\n						\n	\n\n\n\n			\n			\n																																																																				\n	\n	Bernd ReichBernd Reich hat 2001 das Studium der freien Malerei\, Bildhauerei und des freien Zeichnens an der Hochschule für Gestaltung Offenbach am Main abgeschlossen. Seit 1996 hatte der Künstler zahlreiche Ausstellungsbeteiligungen in  Kunstvereinen und Galerien sowie in der Allgemeinen Hypothekenbank und der Art Frankfurt. Seit 2003 ist er als Dozent an der Kunstschule tätig. \nWorkshop für Erwachsene: Zeit für Kunst Workshop. Time for Art. \nKurse für Kinder im Vorschulalter und Schulalter sowie Geburtstags- und Ferienworkshops.\nCourses for preschool and for school-aged children as well as workshops for birthdays and during holidays. \n\n\nJetzt anmelden:\nEine Anmeldung per E-Mail ist erforderlich! Bitte melden Sie sich hier an.
URL:https://kronberger-malerkolonie.com/veranstaltung/sommerferienworkshop-sfws-05/2025-08-12/
LOCATION:Kunstschule Kronberg im Taunus\, Heinrich-Winter-Straße 4a\, Kronberg im Taunus\, 61476\, Germany
CATEGORIES:KUNSTSCHULE,KURSE FÜR KINDER
ORGANIZER;CN="Stiftung Kronberger Malerkolonie und Museumsgesellschaft Kronberg e. V.":MAILTO:info@kronberger-malerkolonie.com
END:VEVENT
BEGIN:VEVENT
DTSTART;TZID=Europe/Berlin:20250813T090000
DTEND;TZID=Europe/Berlin:20250813T130000
DTSTAMP:20260422T122701
CREATED:20250303T131340Z
LAST-MODIFIED:20250320T112907Z
UID:10003242-1755075600-1755090000@kronberger-malerkolonie.com
SUMMARY:Sommerferien Workshop | SFWS 05
DESCRIPTION:SFWS 05\nMo .\,11.08. – Fr.\, 15.08.2025\n09:00 – 13:00 Uhr \n5 Termine \nAlter: ab 5 Jahre \nTeilnehmer: max. 12 Kinder \nDozent: Bernd Reich \nPreis: EUR 145\,00 \n\nGetränk und Pausenbrot nicht vergessen! \n\n	\n\n\n			\n		\n			\n														\n				\n	\n\n														Bernd Reich\n			\n														\n								\n													\n				\n																		\n						Gallerie					\n														\n		\n												\n					\n						Bernd Reich					\n				\n			\n										Bernd Reich\, Dozenten					\n		\n						\n	\n\n\n\n			\n			\n																																																																				\n	\n	Bernd ReichBernd Reich hat 2001 das Studium der freien Malerei\, Bildhauerei und des freien Zeichnens an der Hochschule für Gestaltung Offenbach am Main abgeschlossen. Seit 1996 hatte der Künstler zahlreiche Ausstellungsbeteiligungen in  Kunstvereinen und Galerien sowie in der Allgemeinen Hypothekenbank und der Art Frankfurt. Seit 2003 ist er als Dozent an der Kunstschule tätig. \nWorkshop für Erwachsene: Zeit für Kunst Workshop. Time for Art. \nKurse für Kinder im Vorschulalter und Schulalter sowie Geburtstags- und Ferienworkshops.\nCourses for preschool and for school-aged children as well as workshops for birthdays and during holidays. \n\n\nJetzt anmelden:\nEine Anmeldung per E-Mail ist erforderlich! Bitte melden Sie sich hier an.
URL:https://kronberger-malerkolonie.com/veranstaltung/sommerferienworkshop-sfws-05/2025-08-13/
LOCATION:Kunstschule Kronberg im Taunus\, Heinrich-Winter-Straße 4a\, Kronberg im Taunus\, 61476\, Germany
CATEGORIES:KUNSTSCHULE,KURSE FÜR KINDER
ORGANIZER;CN="Stiftung Kronberger Malerkolonie und Museumsgesellschaft Kronberg e. V.":MAILTO:info@kronberger-malerkolonie.com
END:VEVENT
BEGIN:VEVENT
DTSTART;TZID=Europe/Berlin:20250813T150000
DTEND;TZID=Europe/Berlin:20250813T180000
DTSTAMP:20260422T122701
CREATED:20250626T185642Z
LAST-MODIFIED:20250626T192029Z
UID:10004145-1755097200-1755108000@kronberger-malerkolonie.com
SUMMARY:Sammellust 2
DESCRIPTION:
URL:https://kronberger-malerkolonie.com/veranstaltung/sammellust-2/2025-08-13/
CATEGORIES:AKTUELLE AUSSTELLUNG,MUSEUM
ATTACH;FMTTYPE=image/webp:https://kronberger-malerkolonie.com/wp-content/uploads/2025/06/Ferdinand-Bruett_Sonntagsspaziergang.webp
END:VEVENT
BEGIN:VEVENT
DTSTART;TZID=Europe/Berlin:20250814T090000
DTEND;TZID=Europe/Berlin:20250814T130000
DTSTAMP:20260422T122701
CREATED:20250303T131340Z
LAST-MODIFIED:20250320T112907Z
UID:10003243-1755162000-1755176400@kronberger-malerkolonie.com
SUMMARY:Sommerferien Workshop | SFWS 05
DESCRIPTION:SFWS 05\nMo .\,11.08. – Fr.\, 15.08.2025\n09:00 – 13:00 Uhr \n5 Termine \nAlter: ab 5 Jahre \nTeilnehmer: max. 12 Kinder \nDozent: Bernd Reich \nPreis: EUR 145\,00 \n\nGetränk und Pausenbrot nicht vergessen! \n\n	\n\n\n			\n		\n			\n														\n				\n	\n\n														Bernd Reich\n			\n														\n								\n													\n				\n																		\n						Gallerie					\n														\n		\n												\n					\n						Bernd Reich					\n				\n			\n										Bernd Reich\, Dozenten					\n		\n						\n	\n\n\n\n			\n			\n																																																																				\n	\n	Bernd ReichBernd Reich hat 2001 das Studium der freien Malerei\, Bildhauerei und des freien Zeichnens an der Hochschule für Gestaltung Offenbach am Main abgeschlossen. Seit 1996 hatte der Künstler zahlreiche Ausstellungsbeteiligungen in  Kunstvereinen und Galerien sowie in der Allgemeinen Hypothekenbank und der Art Frankfurt. Seit 2003 ist er als Dozent an der Kunstschule tätig. \nWorkshop für Erwachsene: Zeit für Kunst Workshop. Time for Art. \nKurse für Kinder im Vorschulalter und Schulalter sowie Geburtstags- und Ferienworkshops.\nCourses for preschool and for school-aged children as well as workshops for birthdays and during holidays. \n\n\nJetzt anmelden:\nEine Anmeldung per E-Mail ist erforderlich! Bitte melden Sie sich hier an.
URL:https://kronberger-malerkolonie.com/veranstaltung/sommerferienworkshop-sfws-05/2025-08-14/
LOCATION:Kunstschule Kronberg im Taunus\, Heinrich-Winter-Straße 4a\, Kronberg im Taunus\, 61476\, Germany
CATEGORIES:KUNSTSCHULE,KURSE FÜR KINDER
ORGANIZER;CN="Stiftung Kronberger Malerkolonie und Museumsgesellschaft Kronberg e. V.":MAILTO:info@kronberger-malerkolonie.com
END:VEVENT
BEGIN:VEVENT
DTSTART;TZID=Europe/Berlin:20250816T120000
DTEND;TZID=Europe/Berlin:20250816T180000
DTSTAMP:20260422T122701
CREATED:20250626T185642Z
LAST-MODIFIED:20250626T192029Z
UID:10004146-1755345600-1755367200@kronberger-malerkolonie.com
SUMMARY:Sammellust 2
DESCRIPTION:
URL:https://kronberger-malerkolonie.com/veranstaltung/sammellust-2/2025-08-16/
CATEGORIES:AKTUELLE AUSSTELLUNG,MUSEUM
ATTACH;FMTTYPE=image/webp:https://kronberger-malerkolonie.com/wp-content/uploads/2025/06/Ferdinand-Bruett_Sonntagsspaziergang.webp
END:VEVENT
BEGIN:VEVENT
DTSTART;TZID=Europe/Berlin:20250817T110000
DTEND;TZID=Europe/Berlin:20250817T180000
DTSTAMP:20260422T122701
CREATED:20250626T185642Z
LAST-MODIFIED:20250626T192029Z
UID:10004147-1755428400-1755453600@kronberger-malerkolonie.com
SUMMARY:Sammellust 2
DESCRIPTION:
URL:https://kronberger-malerkolonie.com/veranstaltung/sammellust-2/2025-08-17/
CATEGORIES:AKTUELLE AUSSTELLUNG,MUSEUM
ATTACH;FMTTYPE=image/webp:https://kronberger-malerkolonie.com/wp-content/uploads/2025/06/Ferdinand-Bruett_Sonntagsspaziergang.webp
END:VEVENT
BEGIN:VEVENT
DTSTART;TZID=Europe/Berlin:20250820T150000
DTEND;TZID=Europe/Berlin:20250820T180000
DTSTAMP:20260422T122701
CREATED:20250626T185642Z
LAST-MODIFIED:20250626T192029Z
UID:10004148-1755702000-1755712800@kronberger-malerkolonie.com
SUMMARY:Sammellust 2
DESCRIPTION:
URL:https://kronberger-malerkolonie.com/veranstaltung/sammellust-2/2025-08-20/
CATEGORIES:AKTUELLE AUSSTELLUNG,MUSEUM
ATTACH;FMTTYPE=image/webp:https://kronberger-malerkolonie.com/wp-content/uploads/2025/06/Ferdinand-Bruett_Sonntagsspaziergang.webp
END:VEVENT
BEGIN:VEVENT
DTSTART;TZID=Europe/Berlin:20250823T120000
DTEND;TZID=Europe/Berlin:20250823T180000
DTSTAMP:20260422T122701
CREATED:20250626T185642Z
LAST-MODIFIED:20250626T192029Z
UID:10004149-1755950400-1755972000@kronberger-malerkolonie.com
SUMMARY:Sammellust 2
DESCRIPTION:
URL:https://kronberger-malerkolonie.com/veranstaltung/sammellust-2/2025-08-23/
CATEGORIES:AKTUELLE AUSSTELLUNG,MUSEUM
ATTACH;FMTTYPE=image/webp:https://kronberger-malerkolonie.com/wp-content/uploads/2025/06/Ferdinand-Bruett_Sonntagsspaziergang.webp
END:VEVENT
BEGIN:VEVENT
DTSTART;TZID=Europe/Berlin:20250824T110000
DTEND;TZID=Europe/Berlin:20250824T180000
DTSTAMP:20260422T122701
CREATED:20250626T185642Z
LAST-MODIFIED:20250626T192029Z
UID:10004150-1756033200-1756058400@kronberger-malerkolonie.com
SUMMARY:Sammellust 2
DESCRIPTION:
URL:https://kronberger-malerkolonie.com/veranstaltung/sammellust-2/2025-08-24/
CATEGORIES:AKTUELLE AUSSTELLUNG,MUSEUM
ATTACH;FMTTYPE=image/webp:https://kronberger-malerkolonie.com/wp-content/uploads/2025/06/Ferdinand-Bruett_Sonntagsspaziergang.webp
END:VEVENT
BEGIN:VEVENT
DTSTART;TZID=Europe/Berlin:20250827T150000
DTEND;TZID=Europe/Berlin:20250827T180000
DTSTAMP:20260422T122701
CREATED:20250626T185642Z
LAST-MODIFIED:20250626T192029Z
UID:10004151-1756306800-1756317600@kronberger-malerkolonie.com
SUMMARY:Sammellust 2
DESCRIPTION:
URL:https://kronberger-malerkolonie.com/veranstaltung/sammellust-2/2025-08-27/
CATEGORIES:AKTUELLE AUSSTELLUNG,MUSEUM
ATTACH;FMTTYPE=image/webp:https://kronberger-malerkolonie.com/wp-content/uploads/2025/06/Ferdinand-Bruett_Sonntagsspaziergang.webp
END:VEVENT
BEGIN:VEVENT
DTSTART;TZID=Europe/Berlin:20250830T120000
DTEND;TZID=Europe/Berlin:20250830T180000
DTSTAMP:20260422T122701
CREATED:20250626T185642Z
LAST-MODIFIED:20250626T192029Z
UID:10004152-1756555200-1756576800@kronberger-malerkolonie.com
SUMMARY:Sammellust 2
DESCRIPTION:
URL:https://kronberger-malerkolonie.com/veranstaltung/sammellust-2/2025-08-30/
CATEGORIES:AKTUELLE AUSSTELLUNG,MUSEUM
ATTACH;FMTTYPE=image/webp:https://kronberger-malerkolonie.com/wp-content/uploads/2025/06/Ferdinand-Bruett_Sonntagsspaziergang.webp
END:VEVENT
BEGIN:VEVENT
DTSTART;TZID=Europe/Berlin:20250831T110000
DTEND;TZID=Europe/Berlin:20250831T180000
DTSTAMP:20260422T122701
CREATED:20250626T185642Z
LAST-MODIFIED:20250626T192029Z
UID:10004153-1756638000-1756663200@kronberger-malerkolonie.com
SUMMARY:Sammellust 2
DESCRIPTION:
URL:https://kronberger-malerkolonie.com/veranstaltung/sammellust-2/2025-08-31/
CATEGORIES:AKTUELLE AUSSTELLUNG,MUSEUM
ATTACH;FMTTYPE=image/webp:https://kronberger-malerkolonie.com/wp-content/uploads/2025/06/Ferdinand-Bruett_Sonntagsspaziergang.webp
END:VEVENT
END:VCALENDAR