BEGIN:VCALENDAR
VERSION:2.0
PRODID:-//Kronberger Malerkolonie - ECPv6.15.20//NONSGML v1.0//EN
CALSCALE:GREGORIAN
METHOD:PUBLISH
X-ORIGINAL-URL:https://kronberger-malerkolonie.com
X-WR-CALDESC:Veranstaltungen für Kronberger Malerkolonie
REFRESH-INTERVAL;VALUE=DURATION:PT1H
X-Robots-Tag:noindex
X-PUBLISHED-TTL:PT1H
BEGIN:VTIMEZONE
TZID:Europe/Berlin
BEGIN:DAYLIGHT
TZOFFSETFROM:+0100
TZOFFSETTO:+0200
TZNAME:CEST
DTSTART:20250330T010000
END:DAYLIGHT
BEGIN:STANDARD
TZOFFSETFROM:+0200
TZOFFSETTO:+0100
TZNAME:CET
DTSTART:20251026T010000
END:STANDARD
BEGIN:DAYLIGHT
TZOFFSETFROM:+0100
TZOFFSETTO:+0200
TZNAME:CEST
DTSTART:20260329T010000
END:DAYLIGHT
BEGIN:STANDARD
TZOFFSETFROM:+0200
TZOFFSETTO:+0100
TZNAME:CET
DTSTART:20261025T010000
END:STANDARD
BEGIN:DAYLIGHT
TZOFFSETFROM:+0100
TZOFFSETTO:+0200
TZNAME:CEST
DTSTART:20270328T010000
END:DAYLIGHT
BEGIN:STANDARD
TZOFFSETFROM:+0200
TZOFFSETTO:+0100
TZNAME:CET
DTSTART:20271031T010000
END:STANDARD
END:VTIMEZONE
BEGIN:VEVENT
DTSTART;TZID=Europe/Berlin:20260523T160000
DTEND;TZID=Europe/Berlin:20260523T173000
DTSTAMP:20260421T143027
CREATED:20250314T100722Z
LAST-MODIFIED:20260409T115140Z
UID:10005497-1779552000-1779557400@kronberger-malerkolonie.com
SUMMARY:Führung: Kunst für Kinder
DESCRIPTION:Kunst für Kinder (ab 5 Jahren)\nSamstags\, 16:00 – 17:30 Uhr \nKinderführung im Museum und anschließende Malaktion in der Kunstwerkstatt. \n\n\nGebühr EUR 4\,00 \nAufgrund begrenzter Teilnehmerzahl bitte unbedingt anmelden: Telefonisch unter 06173-92 94 90 zu den Öffnungszeiten oder per E-Mail \n\n\nJetzt anmelden:\nEine Anmeldung per E-Mail ist erforderlich! Bitte melden Sie sich hier an.
URL:https://kronberger-malerkolonie.com/veranstaltung/kunst-fuer-kinder-2/2026-05-23/
CATEGORIES:FÜHRUNGEN,MUSEUM
ATTACH;FMTTYPE=image/jpeg:https://kronberger-malerkolonie.com/wp-content/uploads/2025/02/Kunst_fuer_Kinder-1200x800-1.jpg
END:VEVENT
END:VCALENDAR