BEGIN:VCALENDAR
VERSION:2.0
PRODID:-//Kronberger Malerkolonie - ECPv6.15.20//NONSGML v1.0//EN
CALSCALE:GREGORIAN
METHOD:PUBLISH
X-WR-CALNAME:Kronberger Malerkolonie
X-ORIGINAL-URL:https://kronberger-malerkolonie.com
X-WR-CALDESC:Veranstaltungen für Kronberger Malerkolonie
REFRESH-INTERVAL;VALUE=DURATION:PT1H
X-Robots-Tag:noindex
X-PUBLISHED-TTL:PT1H
BEGIN:VTIMEZONE
TZID:Europe/Berlin
BEGIN:DAYLIGHT
TZOFFSETFROM:+0100
TZOFFSETTO:+0200
TZNAME:CEST
DTSTART:20240331T010000
END:DAYLIGHT
BEGIN:STANDARD
TZOFFSETFROM:+0200
TZOFFSETTO:+0100
TZNAME:CET
DTSTART:20241027T010000
END:STANDARD
BEGIN:DAYLIGHT
TZOFFSETFROM:+0100
TZOFFSETTO:+0200
TZNAME:CEST
DTSTART:20250330T010000
END:DAYLIGHT
BEGIN:STANDARD
TZOFFSETFROM:+0200
TZOFFSETTO:+0100
TZNAME:CET
DTSTART:20251026T010000
END:STANDARD
BEGIN:DAYLIGHT
TZOFFSETFROM:+0100
TZOFFSETTO:+0200
TZNAME:CEST
DTSTART:20260329T010000
END:DAYLIGHT
BEGIN:STANDARD
TZOFFSETFROM:+0200
TZOFFSETTO:+0100
TZNAME:CET
DTSTART:20261025T010000
END:STANDARD
END:VTIMEZONE
BEGIN:VEVENT
DTSTART;TZID=Europe/Berlin:20251207T110000
DTEND;TZID=Europe/Berlin:20251207T180000
DTSTAMP:20260420T174640
CREATED:20250922T132352Z
LAST-MODIFIED:20251111T171356Z
UID:10004603-1765105200-1765130400@kronberger-malerkolonie.com
SUMMARY:Die Künstlerkolonie Worpswede
DESCRIPTION:
URL:https://kronberger-malerkolonie.com/veranstaltung/die-kuenstlerkolonie-worpswede/2025-12-07/
CATEGORIES:AKTUELLE AUSSTELLUNG,MUSEUM
ATTACH;FMTTYPE=image/webp:https://kronberger-malerkolonie.com/wp-content/uploads/2025/11/Detail-aus-Hans-am-Ende-Birke-im-Sommer-Privatsammlung-Slider.webp
END:VEVENT
BEGIN:VEVENT
DTSTART;TZID=Europe/Berlin:20251207T111500
DTEND;TZID=Europe/Berlin:20251207T121500
DTSTAMP:20260420T174640
CREATED:20250729T124547Z
LAST-MODIFIED:20251201T103218Z
UID:10004980-1765106100-1765109700@kronberger-malerkolonie.com
SUMMARY:Öffentliche Führung
DESCRIPTION:Öffentliche Führungen\nSonntags\, 11:15 Uhr \nPreis 4\,00 € zzgl. Eintritt \nÖffentliche Führungen finden in der Regel am ersten Sonntag im Monat statt und dauern ca. eine Stunde. \nDie Teilnehmerzahl für öffentliche Führungen ist begrenzt. \nAufgrund begrenzter Teilnehmerzahl bitte unbedingt anmelden: Telefonisch unter 06173-92 94 90 zu den Öffnungszeiten oder per E-Mail. \nPrivate Führungen sind nach Vereinbarung auch außerhalb der Öffnungszeiten möglich. \nFührungen für private Gruppen oder Schulklassen auch in englischer und französischer Sprache nach Vereinbarung. \nJetzt anmelden:\nEine Anmeldung per E-Mail ist erforderlich! Bitte melden Sie sich hier an.
URL:https://kronberger-malerkolonie.com/veranstaltung/oeffentliche-fuehrung-2/2025-12-07/
CATEGORIES:FÜHRUNGEN,MUSEUM
ATTACH;FMTTYPE=image/jpeg:https://kronberger-malerkolonie.com/wp-content/uploads/2025/03/Oeffentliche-Fuehrungen.jpg
END:VEVENT
END:VCALENDAR