BEGIN:VCALENDAR
VERSION:2.0
PRODID:-//Kronberger Malerkolonie - ECPv6.15.20//NONSGML v1.0//EN
CALSCALE:GREGORIAN
METHOD:PUBLISH
X-WR-CALNAME:Kronberger Malerkolonie
X-ORIGINAL-URL:https://kronberger-malerkolonie.com
X-WR-CALDESC:Veranstaltungen für Kronberger Malerkolonie
REFRESH-INTERVAL;VALUE=DURATION:PT1H
X-Robots-Tag:noindex
X-PUBLISHED-TTL:PT1H
BEGIN:VTIMEZONE
TZID:Europe/Berlin
BEGIN:DAYLIGHT
TZOFFSETFROM:+0100
TZOFFSETTO:+0200
TZNAME:CEST
DTSTART:20250330T010000
END:DAYLIGHT
BEGIN:STANDARD
TZOFFSETFROM:+0200
TZOFFSETTO:+0100
TZNAME:CET
DTSTART:20251026T010000
END:STANDARD
BEGIN:DAYLIGHT
TZOFFSETFROM:+0100
TZOFFSETTO:+0200
TZNAME:CEST
DTSTART:20260329T010000
END:DAYLIGHT
BEGIN:STANDARD
TZOFFSETFROM:+0200
TZOFFSETTO:+0100
TZNAME:CET
DTSTART:20261025T010000
END:STANDARD
BEGIN:DAYLIGHT
TZOFFSETFROM:+0100
TZOFFSETTO:+0200
TZNAME:CEST
DTSTART:20270328T010000
END:DAYLIGHT
BEGIN:STANDARD
TZOFFSETFROM:+0200
TZOFFSETTO:+0100
TZNAME:CET
DTSTART:20271031T010000
END:STANDARD
END:VTIMEZONE
BEGIN:VEVENT
DTSTART;TZID=Europe/Berlin:20260509T160000
DTEND;TZID=Europe/Berlin:20260509T170000
DTSTAMP:20260421T200345
CREATED:20260409T125100Z
LAST-MODIFIED:20260409T125129Z
UID:10005501-1778342400-1778346000@kronberger-malerkolonie.com
SUMMARY:Künstlergespräche
DESCRIPTION:Künstlergespräche\nGebühr EUR 4\,00 €\, inkl. Eintritt. \n\n\nBegrenzte Teilnehmerzahl. Anmeldung erforderlich. \n\n\nJetzt anmelden:\nPreis: 159\,00 € Teilnehmer: 9 &nbsp Leider Ausgebucht! &nbsp Es besteht die Möglichkeit sich hier auf die Warteliste zu setzen.
URL:https://kronberger-malerkolonie.com/veranstaltung/kuenstlergespraech-2/
CATEGORIES:AKTUELLE AUSSTELLUNG,FÜHRUNGEN,MUSEUM
ATTACH;FMTTYPE=image/jpeg:https://kronberger-malerkolonie.com/wp-content/uploads/2026/03/Boris-Schoeppner.jpg
END:VEVENT
BEGIN:VEVENT
DTSTART;TZID=Europe/Berlin:20260513T123000
DTEND;TZID=Europe/Berlin:20260513T130000
DTSTAMP:20260421T200345
CREATED:20260409T121900Z
LAST-MODIFIED:20260409T121900Z
UID:10005500-1778675400-1778677200@kronberger-malerkolonie.com
SUMMARY:Führung: Kunst am Mittag
DESCRIPTION:Mittwochs\, 12:30 – 13:00 Uhr \nGebühr 8\,00 € inkl. Eintritt. \nKunst in der Mittagspause richtet sich besonders an die Berufstätigen (einzeln oder im Team) in Kronberg. An ausgewählten Mittwochen werden Ihnen in nur 30 Minuten in einer informativen Führung die wichtigsten Bilder der aktuellen Sonderausstellung vorgestellt. \nMit Esther Walldorf M.A. \nAufgrund begrenzter Teilnehmerzahl bitte unbedingt anmelden: Telefonisch unter 06173-92 94 90 zu den Öffnungszeiten oder per E-Mail.
URL:https://kronberger-malerkolonie.com/veranstaltung/kunst-am-mittag-2/
CATEGORIES:FÜHRUNGEN,MUSEUM
END:VEVENT
BEGIN:VEVENT
DTSTART;TZID=Europe/Berlin:20260626T170000
DTEND;TZID=Europe/Berlin:20260626T200000
DTSTAMP:20260421T200345
CREATED:20260312T130923Z
LAST-MODIFIED:20260312T155552Z
UID:10002994-1782493200-1782504000@kronberger-malerkolonie.com
SUMMARY:Workshop: Freiluftzeichnen
DESCRIPTION:Freiluftzeichnen\nZeichnen im Freien an zwei Frühlingstagen: Wir gehen nach draußen und arbeiten mit verschiedenen Materialien und Techniken. Wir schauen und setzen das Gesehene in Farbe\, Atmosphäre\, Licht und Schatten um. Treffpunkt: Treppenaufgang Villa Winter. \nFreitag: 26.06.2026\n17:00 – 20:00 Uhr \n1 Termin \n8 Plätze \nTreffpunkt: Treppenaufgang Villa Winter \nDozentin: Astrid Kemper \nPreis: EUR 29\,00 \nJetzt anmelden:\nPreis: 159\,00 € Teilnehmer: 9 &nbsp Leider Ausgebucht! &nbsp Es besteht die Möglichkeit sich hier auf die Warteliste zu setzen.
URL:https://kronberger-malerkolonie.com/veranstaltung/freiluftzeichnen-2/
LOCATION:Kunstschule Kronberg im Taunus\, Heinrich-Winter-Straße 4a\, Kronberg im Taunus\, 61476\, Germany
CATEGORIES:KUNSTSCHULE,KURSE FÜR ERWACHSENE
ATTACH;FMTTYPE=image/jpeg:https://kronberger-malerkolonie.com/wp-content/uploads/2025/03/Freiluftzeichnen.jpg
ORGANIZER;CN="Stiftung Kronberger Malerkolonie / Kunstschule Kronberg im Taunus":MAILTO:kunstschule@kronberger-malerkolonie.com
END:VEVENT
BEGIN:VEVENT
DTSTART;TZID=Europe/Berlin:20260803T090000
DTEND;TZID=Europe/Berlin:20260803T130000
DTSTAMP:20260421T200345
CREATED:20260312T121428Z
LAST-MODIFIED:20260326T135254Z
UID:10003244-1785747600-1785762000@kronberger-malerkolonie.com
SUMMARY:Sommerferien Workshop | SFWS 05
DESCRIPTION:SFWS 05\nNähen- mit und ohne Nähmaschine -Filzen\, Sticken und Färben \nMo.\, 03.08. – Fr.\, 07.08.2026\n09:00 – 13:00 Uhr \n5 Termine \nAlter: ab 8 Jahre \nTeilnehmer: max. 8 Kinder \nDozent: Bernd Reich \nPreis: EUR 160\,00 \n\nGetränk und Pausenbrot nicht vergessen! \nJetzt anmelden:\nPreis: 159\,00 € Teilnehmer: 9 &nbsp Leider Ausgebucht! &nbsp Es besteht die Möglichkeit sich hier auf die Warteliste zu setzen.
URL:https://kronberger-malerkolonie.com/veranstaltung/sommerferienworkshop-sfws-05-2/
LOCATION:Kunstschule Kronberg im Taunus\, Heinrich-Winter-Straße 4a\, Kronberg im Taunus\, 61476\, Germany
CATEGORIES:KUNSTSCHULE,KURSE FÜR KINDER
ORGANIZER;CN="Stiftung Kronberger Malerkolonie und Museumsgesellschaft Kronberg e. V.":MAILTO:info@kronberger-malerkolonie.com
END:VEVENT
END:VCALENDAR