BEGIN:VCALENDAR
VERSION:2.0
PRODID:-//Kronberger Malerkolonie - ECPv6.15.20//NONSGML v1.0//EN
CALSCALE:GREGORIAN
METHOD:PUBLISH
X-WR-CALNAME:Kronberger Malerkolonie
X-ORIGINAL-URL:https://kronberger-malerkolonie.com
X-WR-CALDESC:Veranstaltungen für Kronberger Malerkolonie
REFRESH-INTERVAL;VALUE=DURATION:PT1H
X-Robots-Tag:noindex
X-PUBLISHED-TTL:PT1H
BEGIN:VTIMEZONE
TZID:Europe/Berlin
BEGIN:DAYLIGHT
TZOFFSETFROM:+0100
TZOFFSETTO:+0200
TZNAME:CEST
DTSTART:20250330T010000
END:DAYLIGHT
BEGIN:STANDARD
TZOFFSETFROM:+0200
TZOFFSETTO:+0100
TZNAME:CET
DTSTART:20251026T010000
END:STANDARD
BEGIN:DAYLIGHT
TZOFFSETFROM:+0100
TZOFFSETTO:+0200
TZNAME:CEST
DTSTART:20260329T010000
END:DAYLIGHT
BEGIN:STANDARD
TZOFFSETFROM:+0200
TZOFFSETTO:+0100
TZNAME:CET
DTSTART:20261025T010000
END:STANDARD
BEGIN:DAYLIGHT
TZOFFSETFROM:+0100
TZOFFSETTO:+0200
TZNAME:CEST
DTSTART:20270328T010000
END:DAYLIGHT
BEGIN:STANDARD
TZOFFSETFROM:+0200
TZOFFSETTO:+0100
TZNAME:CET
DTSTART:20271031T010000
END:STANDARD
END:VTIMEZONE
BEGIN:VEVENT
DTSTART;TZID=Europe/Berlin:20260122T164500
DTEND;TZID=Europe/Berlin:20260122T181500
DTSTAMP:20260423T001641
CREATED:20251126T182929Z
LAST-MODIFIED:20251127T104339Z
UID:10004816-1769100300-1769105700@kronberger-malerkolonie.com
SUMMARY:KDo2F
DESCRIPTION:KDo2F\nDonnerstags: 22.01. – 19.03.2026\n16:45 – 18:15 Uhr \n9 Termine \nAlter: 10 – 16 Jahre \nTeilnehmer: max. 12 Kinder \nDozent: Susana Ortiz Maillo \nPreis: EUR 96\,00 \nJetzt anmelden:\nPreis: 127\,00 € Teilnehmer: 8 &nbsp freie Plätze: 1 \n	Hinweis: Für diesen Inhalt ist JavaScript erforderlich.
URL:https://kronberger-malerkolonie.com/veranstaltung/kdo2f-2/2026-01-22/
LOCATION:Kunstschule Kronberg im Taunus\, Heinrich-Winter-Straße 4a\, Kronberg im Taunus\, 61476\, Germany
CATEGORIES:KUNSTSCHULE,KURSE FÜR KINDER
ATTACH;FMTTYPE=image/jpeg:https://kronberger-malerkolonie.com/wp-content/uploads/2025/03/Ortiz_Haus.jpg
ORGANIZER;CN="Stiftung Kronberger Malerkolonie und Museumsgesellschaft Kronberg e. V.":MAILTO:info@kronberger-malerkolonie.com
END:VEVENT
BEGIN:VEVENT
DTSTART;TZID=Europe/Berlin:20260123T150000
DTEND;TZID=Europe/Berlin:20260123T163000
DTSTAMP:20260423T001641
CREATED:20251126T183433Z
LAST-MODIFIED:20260323T165924Z
UID:10004834-1769180400-1769185800@kronberger-malerkolonie.com
SUMMARY:KFr1F
DESCRIPTION:KFr1F\nFreitags: 23.01. – 20.03.2026\n15:00 – 16:30 Uhr \n9 Termine \nAlter: 5 – 8 Jahre \nTeilnehmer: max. 10 Kinder \nDozent: Bernd Reich \nPreis: EUR 96\,00 \nJetzt anmelden:\nPreis: 127\,00 € Teilnehmer: 8 &nbsp freie Plätze: 1 \n	Hinweis: Für diesen Inhalt ist JavaScript erforderlich.
URL:https://kronberger-malerkolonie.com/veranstaltung/kfr1f-2/2026-01-23/
LOCATION:Kunstschule Kronberg im Taunus\, Heinrich-Winter-Straße 4a\, Kronberg im Taunus\, 61476\, Germany
CATEGORIES:KUNSTSCHULE,KURSE FÜR KINDER
ATTACH;FMTTYPE=image/jpeg:https://kronberger-malerkolonie.com/wp-content/uploads/2025/03/Figuren.jpg
ORGANIZER;CN="Stiftung Kronberger Malerkolonie und Museumsgesellschaft Kronberg e. V.":MAILTO:info@kronberger-malerkolonie.com
END:VEVENT
BEGIN:VEVENT
DTSTART;TZID=Europe/Berlin:20260123T164500
DTEND;TZID=Europe/Berlin:20260123T184500
DTSTAMP:20260423T001641
CREATED:20251126T183845Z
LAST-MODIFIED:20260323T165722Z
UID:10004846-1769186700-1769193900@kronberger-malerkolonie.com
SUMMARY:KFr2F
DESCRIPTION:KFr2F\nFreitags: 23.01. – 20.03.2026\n16:45 – 18:45 Uhr \n9Termine \nAlter: 11 – 17 Jahre \nTeilnehmer: max. 14 Kinder \nDozent: Bernd Reich \nPreis: EUR 128\,00 \nJetzt anmelden:\nJetzt anmelden:\nPreis: 127\,00 € Teilnehmer: 8 &nbsp freie Plätze: 1 \n	Hinweis: Für diesen Inhalt ist JavaScript erforderlich.
URL:https://kronberger-malerkolonie.com/veranstaltung/kfr2f-2/2026-01-23/
LOCATION:Kunstschule Kronberg im Taunus\, Heinrich-Winter-Straße 4a\, Kronberg im Taunus\, 61476\, Germany
CATEGORIES:KUNSTSCHULE,KURSE FÜR KINDER
ATTACH;FMTTYPE=image/jpeg:https://kronberger-malerkolonie.com/wp-content/uploads/2025/03/Zeichnen.jpg
ORGANIZER;CN="Stiftung Kronberger Malerkolonie und Museumsgesellschaft Kronberg e. V.":MAILTO:info@kronberger-malerkolonie.com
END:VEVENT
BEGIN:VEVENT
DTSTART;TZID=Europe/Berlin:20260123T190000
DTEND;TZID=Europe/Berlin:20260123T210000
DTSTAMP:20260423T001641
CREATED:20251126T190848Z
LAST-MODIFIED:20251209T150634Z
UID:10004985-1769194800-1769202000@kronberger-malerkolonie.com
SUMMARY:Aqua 1
DESCRIPTION:Aqua 1 – Aquarellieren\nAuf Entdeckungsreise durch die Natur: Bewusstes Erfassen und Umsetzen von Strukturen und Formen. Farbklänge aufspüren. Perspektive\, Lichtführung\, Raumaufteilung und Kreativität entwickeln\, um zum eigenen Ausdruck zu finden. \nFreitags\, 23.01 – 18.03.2026\n19:00 – 21:00 Uhr \n9 Termine \nTeilnehmerInnen: max. 9 \nDozentin: Svetlana Grinberg \nPreis: EUR 144\,00 \nJetzt anmelden:\nPreis: 127\,00 € Teilnehmer: 8 &nbsp freie Plätze: 1 \n	Hinweis: Für diesen Inhalt ist JavaScript erforderlich.
URL:https://kronberger-malerkolonie.com/veranstaltung/aqua-1/2026-01-23/
LOCATION:Kunstschule Kronberg im Taunus\, Heinrich-Winter-Straße 4a\, Kronberg im Taunus\, 61476\, Germany
CATEGORIES:KUNSTSCHULE,KURSE FÜR ERWACHSENE
ATTACH;FMTTYPE=image/jpeg:https://kronberger-malerkolonie.com/wp-content/uploads/2025/03/Tulpen_Ausschnitt-Goenner.jpg
ORGANIZER;CN="Stiftung Kronberger Malerkolonie und Museumsgesellschaft Kronberg e. V.":MAILTO:info@kronberger-malerkolonie.com
END:VEVENT
BEGIN:VEVENT
DTSTART;TZID=Europe/Berlin:20260207T120000
DTEND;TZID=Europe/Berlin:20260207T160000
DTSTAMP:20260423T001641
CREATED:20251126T185432Z
LAST-MODIFIED:20251127T104001Z
UID:10004864-1770465600-1770480000@kronberger-malerkolonie.com
SUMMARY:Workshop | Comic
DESCRIPTION:Workshop Comic\nSamstag & Sonntag:\n07.02. – 08.02.2026\n12:00 – 16:00 Uhr \n2 Termine \nAlter: ab 10 Jahre \nTeilnehmer: max. 10 Kinder \nDozent: Susana Ortiz Maillo \nPreis: EUR 79\,00 \nJetzt anmelden:\nPreis: 127\,00 € Teilnehmer: 8 &nbsp freie Plätze: 1 \n	Hinweis: Für diesen Inhalt ist JavaScript erforderlich.
URL:https://kronberger-malerkolonie.com/veranstaltung/ws-comic/2026-02-07/
LOCATION:Kunstschule Kronberg im Taunus\, Heinrich-Winter-Straße 4a\, Kronberg im Taunus\, 61476\, Germany
CATEGORIES:KUNSTSCHULE,KURSE FÜR KINDER
ATTACH;FMTTYPE=image/jpeg:https://kronberger-malerkolonie.com/wp-content/uploads/2025/11/Comic.jpg
ORGANIZER;CN="Stiftung Kronberger Malerkolonie und Museumsgesellschaft Kronberg e. V.":MAILTO:info@kronberger-malerkolonie.com
END:VEVENT
BEGIN:VEVENT
DTSTART;TZID=Europe/Berlin:20260221T120000
DTEND;TZID=Europe/Berlin:20260221T160000
DTSTAMP:20260423T001641
CREATED:20251126T185955Z
LAST-MODIFIED:20251127T104030Z
UID:10004868-1771675200-1771689600@kronberger-malerkolonie.com
SUMMARY:Workshop | Freestyle Nähen
DESCRIPTION:WS Freestyle Nähen\nSamstag & Sonntag:\n21.02. – 22.02.2026\n12:00 – 16:00 Uhr \n2 Termine \nAlter: ab 9 Jahre \nTeilnehmer: max. 10 Kinder \nDozent: Susana Ortiz Maillo \nPreis: EUR 79\,00 \nJetzt anmelden:\nPreis: 127\,00 € Teilnehmer: 8 &nbsp freie Plätze: 1 \n	Hinweis: Für diesen Inhalt ist JavaScript erforderlich.
URL:https://kronberger-malerkolonie.com/veranstaltung/ws-freestyle-naehen/2026-02-21/
LOCATION:Kunstschule Kronberg im Taunus\, Heinrich-Winter-Straße 4a\, Kronberg im Taunus\, 61476\, Germany
CATEGORIES:KUNSTSCHULE,KURSE FÜR KINDER
ATTACH;FMTTYPE=image/jpeg:https://kronberger-malerkolonie.com/wp-content/uploads/2025/11/FreeStyle-orig.jpg
ORGANIZER;CN="Stiftung Kronberger Malerkolonie und Museumsgesellschaft Kronberg e. V.":MAILTO:info@kronberger-malerkolonie.com
END:VEVENT
BEGIN:VEVENT
DTSTART;TZID=Europe/Berlin:20260228T150000
DTEND;TZID=Europe/Berlin:20260228T160000
DTSTAMP:20260423T001641
CREATED:20251111T172518Z
LAST-MODIFIED:20251111T172555Z
UID:10004659-1772290800-1772294400@kronberger-malerkolonie.com
SUMMARY:Familienführung
DESCRIPTION:Aufgrund begrenzter Teilnehmerzahl bitte unbedingt anmelden: Telefonisch unter 06173-92 94 90 zu den Öffnungszeiten oder hier per Anmeldeformular.
URL:https://kronberger-malerkolonie.com/veranstaltung/familienfuehrung/
CATEGORIES:FÜHRUNGEN,MUSEUM
END:VEVENT
BEGIN:VEVENT
DTSTART;TZID=Europe/Berlin:20260311T103000
DTEND;TZID=Europe/Berlin:20260311T113000
DTSTAMP:20260423T001641
CREATED:20250630T085732Z
LAST-MODIFIED:20251201T105244Z
UID:10004982-1773225000-1773228600@kronberger-malerkolonie.com
SUMMARY:Führung: Mit dem Baby zur Kunst
DESCRIPTION:Führung: Mit dem Baby zur Kunst\nMittwochs\, 10:30 – 12:00 Uhr\, Einlass 10:00 Uhr \nDie Führung beginnt um 10:30 Uhr und dauert 60 Minuten. \nEltern treffen sich zur Führung in der Ausstellung und bringen ihr Baby einfach mit. \nDas Museum öffnet bereits um 10:00 Uhr für die Teilnehmenden. \nMit Esther Walldorf M.A. \nGebühr EUR 10\,00 €\, inkl. Eintritt. \n\n\nAufgrund begrenzter Teilnehmerzahl bitte unbedingt anmelden: Telefonisch unter 06173-92 94 90 zu den Öffnungszeiten oder per E-Mail. \n\n\nJetzt anmelden:\nPreis: 127\,00 € Teilnehmer: 8 &nbsp freie Plätze: 1 \n	Hinweis: Für diesen Inhalt ist JavaScript erforderlich.
URL:https://kronberger-malerkolonie.com/veranstaltung/mit-dem-baby-zur-kunst-2-2/
CATEGORIES:FÜHRUNGEN,MUSEUM
ATTACH;FMTTYPE=image/jpeg:https://kronberger-malerkolonie.com/wp-content/uploads/2025/01/Mit_dem_Baby_zur_Kunst_1200x800.jpg
END:VEVENT
BEGIN:VEVENT
DTSTART;TZID=Europe/Berlin:20260315T130000
DTEND;TZID=Europe/Berlin:20260315T180000
DTSTAMP:20260423T001641
CREATED:20251127T095846Z
LAST-MODIFIED:20251201T093058Z
UID:10004956-1773579600-1773597600@kronberger-malerkolonie.com
SUMMARY:Workshop | Von der Skizze zum Bild
DESCRIPTION:Von der Skizze zum Bild\nDieser dreitägige Kurs ermöglicht die intensive Auseinandersetzung mit dem Prozess von der Idee bis zum fertigen Gemälde. Am ersten Tag erarbeiten wir mit verschiedenen Techniken und Materialien eine aussagekräftige Skizze als Grundlage. In den folgenden zwei Tagen überführen wir diese Skizze in die Malerei und konzentrieren uns auf die Komposition\, einen sicheren Bildaufbau und die gezielte inhaltliche Aussage des Werkes. \nSonntag\, 15.03.2026\n13 – 18 Uhr \nSamstag\, 21.03.2026\n10 – 17 Uhr \nSonntag\, 22.03.2026\n10 – 17 Uhr \n3  Termine \nTeilnehmerInnen: max. 9 \nDozent: Kathrin Lieske \nPreis: EUR 185\,00 (zzgl. Material) \nJetzt anmelden:\nPreis: 127\,00 € Teilnehmer: 8 &nbsp freie Plätze: 1 \n	Hinweis: Für diesen Inhalt ist JavaScript erforderlich.
URL:https://kronberger-malerkolonie.com/veranstaltung/ws-von-der-skizze-zum-bild/2026-03-15/
LOCATION:Kunstschule Kronberg im Taunus\, Heinrich-Winter-Straße 4a\, Kronberg im Taunus\, 61476\, Germany
CATEGORIES:KUNSTSCHULE,KURSE FÜR ERWACHSENE
ATTACH;FMTTYPE=image/jpeg:https://kronberger-malerkolonie.com/wp-content/uploads/2025/11/WS-Von-der-Skizze-zum-Bild.jpg
END:VEVENT
BEGIN:VEVENT
DTSTART;TZID=Europe/Berlin:20260412T110000
DTEND;TZID=Europe/Berlin:20260412T180000
DTSTAMP:20260423T001641
CREATED:20260323T163729Z
LAST-MODIFIED:20260323T165242Z
UID:10005043-1775991600-1776016800@kronberger-malerkolonie.com
SUMMARY:Hauptsache Musik - Zeitgenössische Fotografie aus RheinMain
DESCRIPTION:12. April 2026 – 7. Juni 2026\nHauptsache Musik – Zeitgenössische Fotografie aus RheinMain \nMit Barbara Dickenberger\, Paola Ferrarotti\, Boris Schöppner und Patricia Truchsess \n  \nFotografien von Musizierenden auf und hinter der Bühne\, im Konzertsaal oder auf der Straße zeigen ungewöhnliche Blicke\, die sekundenschnell festgehalten und vom Publikum meist kaum wahrgenommen werden. \nKontakt\nMUSEUM KRONBERGER MALERKOLONIE \n\n06173 92 94 90 \n\ninfo (at) kronberger-malerkolonie.com \nÖFFNUNGSZEITEN MUSEUM \nMittwoch:\n15:00 – 18:00 Uhr \nSamstag:\n12:00 – 18:00 Uhr \nSonn- und Feiertage:\n11:00 – 18:00 Uhr \nADRESSE \nVilla Winter\nHeinrich-Winter-Str. 4a\n61476 Kronberg im Taunus
URL:https://kronberger-malerkolonie.com/veranstaltung/hauptsache-musik-zeitgenoessische-fotografie-aus-rheinmain/2026-04-12/
LOCATION:Museum Malerkolonie Kronberg\, Heinrich-Winter-Straße 4a\, Kronberg im Taunus\, Hessen\, 61476\, Germany
CATEGORIES:AKTUELLE AUSSTELLUNG,MUSEUM
ATTACH;FMTTYPE=image/jpeg:https://kronberger-malerkolonie.com/wp-content/uploads/2026/03/Pat.13-Musik_Auswahl_Solo-Musiker_PT-12-1200-800.jpg
END:VEVENT
BEGIN:VEVENT
DTSTART;TZID=Europe/Berlin:20260413T164500
DTEND;TZID=Europe/Berlin:20260413T181500
DTSTAMP:20260423T001641
CREATED:20260311T152611Z
LAST-MODIFIED:20260409T114153Z
UID:10003099-1776098700-1776104100@kronberger-malerkolonie.com
SUMMARY:KMo2S
DESCRIPTION:KMo2S\nMontags: 13.04. – 15.06.2026\n16:45 – 18:15 Uhr \n9 Termine \nAlter: 7 – 9 Jahre \nTeilnehmer: max. 10 Kinder \nDozent: Bernd Reich \nPreis: EUR 96\,00 \nJetzt anmelden:\nPreis: 127\,00 € Teilnehmer: 8 &nbsp freie Plätze: 1 \n	Hinweis: Für diesen Inhalt ist JavaScript erforderlich.
URL:https://kronberger-malerkolonie.com/veranstaltung/kmo2s-2/2026-04-13/
LOCATION:Kunstschule Kronberg im Taunus\, Heinrich-Winter-Straße 4a\, Kronberg im Taunus\, 61476\, Germany
CATEGORIES:KUNSTSCHULE,KURSE FÜR KINDER
ATTACH;FMTTYPE=image/jpeg:https://kronberger-malerkolonie.com/wp-content/uploads/2025/03/Engel.jpg
ORGANIZER;CN="Stiftung Kronberger Malerkolonie und Museumsgesellschaft Kronberg e. V.":MAILTO:info@kronberger-malerkolonie.com
END:VEVENT
BEGIN:VEVENT
DTSTART;TZID=Europe/Berlin:20260414T143000
DTEND;TZID=Europe/Berlin:20260414T160000
DTSTAMP:20260423T001641
CREATED:20260311T135340Z
LAST-MODIFIED:20260326T135955Z
UID:10005495-1776177000-1776182400@kronberger-malerkolonie.com
SUMMARY:KDi1S
DESCRIPTION:KDi1S\nDienstags: 14.04. – 16.06.2026\n14:30 – 16:00 Uhr \nAlter: 4 – 7 Jahre \n10 Termine \nTeilnehmer: max. 10 Kinder \nDozent: Ulrike Nasreddine \nPreis: EUR 107\,00 \nJetzt anmelden:\nPreis: 127\,00 € Teilnehmer: 8 &nbsp freie Plätze: 1 \n	Hinweis: Für diesen Inhalt ist JavaScript erforderlich.
URL:https://kronberger-malerkolonie.com/veranstaltung/kdi1s-2/2026-04-14/
LOCATION:Kunstschule Kronberg im Taunus\, Heinrich-Winter-Straße 4a\, Kronberg im Taunus\, 61476\, Germany
CATEGORIES:KUNSTSCHULE,KURSE FÜR KINDER
ATTACH;FMTTYPE=image/jpeg:https://kronberger-malerkolonie.com/wp-content/uploads/2025/03/Ulrike.jpg
ORGANIZER;CN="Stiftung Kronberger Malerkolonie und Museumsgesellschaft Kronberg e. V.":MAILTO:info@kronberger-malerkolonie.com
END:VEVENT
BEGIN:VEVENT
DTSTART;TZID=Europe/Berlin:20260417T150000
DTEND;TZID=Europe/Berlin:20260417T163000
DTSTAMP:20260423T001641
CREATED:20250303T104127Z
LAST-MODIFIED:20260409T113632Z
UID:10004999-1776438000-1776443400@kronberger-malerkolonie.com
SUMMARY:KFr1S
DESCRIPTION:KFr1S\nFreitags: 17.04. – 19.06.2026\n15:00 – 16:30 Uhr \n9 Termine \nAlter: 5 – 8 Jahre \nTeilnehmer: max. 10 Kinder \nDozent: Bernd Reich \nPreis: EUR 96\,00 \nJetzt anmelden:\nPreis: 127\,00 € Teilnehmer: 8 &nbsp freie Plätze: 1 \n	Hinweis: Für diesen Inhalt ist JavaScript erforderlich.
URL:https://kronberger-malerkolonie.com/veranstaltung/kfr1s/2026-04-17/
LOCATION:Kunstschule Kronberg im Taunus\, Heinrich-Winter-Straße 4a\, Kronberg im Taunus\, 61476\, Germany
CATEGORIES:KUNSTSCHULE,KURSE FÜR KINDER
ATTACH;FMTTYPE=image/jpeg:https://kronberger-malerkolonie.com/wp-content/uploads/2025/03/Figuren.jpg
ORGANIZER;CN="Stiftung Kronberger Malerkolonie und Museumsgesellschaft Kronberg e. V.":MAILTO:info@kronberger-malerkolonie.com
END:VEVENT
BEGIN:VEVENT
DTSTART;TZID=Europe/Berlin:20260418T160000
DTEND;TZID=Europe/Berlin:20260418T173000
DTSTAMP:20260423T001641
CREATED:20250314T100722Z
LAST-MODIFIED:20260409T115140Z
UID:10005496-1776528000-1776533400@kronberger-malerkolonie.com
SUMMARY:Führung: Kunst für Kinder
DESCRIPTION:Kunst für Kinder (ab 5 Jahren)\nSamstags\, 16:00 – 17:30 Uhr \nKinderführung im Museum und anschließende Malaktion in der Kunstwerkstatt. \n\n\nGebühr EUR 4\,00 \nAufgrund begrenzter Teilnehmerzahl bitte unbedingt anmelden: Telefonisch unter 06173-92 94 90 zu den Öffnungszeiten oder per E-Mail \n\n\nJetzt anmelden:\nPreis: 127\,00 € Teilnehmer: 8 &nbsp freie Plätze: 1 \n	Hinweis: Für diesen Inhalt ist JavaScript erforderlich.
URL:https://kronberger-malerkolonie.com/veranstaltung/kunst-fuer-kinder-2/2026-04-18/
CATEGORIES:FÜHRUNGEN,MUSEUM
ATTACH;FMTTYPE=image/jpeg:https://kronberger-malerkolonie.com/wp-content/uploads/2025/02/Kunst_fuer_Kinder-1200x800-1.jpg
END:VEVENT
BEGIN:VEVENT
DTSTART;TZID=Europe/Berlin:20260425T150000
DTEND;TZID=Europe/Berlin:20260426T170000
DTSTAMP:20260423T001641
CREATED:20260312T145332Z
LAST-MODIFIED:20260416T164717Z
UID:10005505-1777129200-1777222800@kronberger-malerkolonie.com
SUMMARY:Workshop: Drucken für Kinder
DESCRIPTION:Sa.\, 25.04. – So.\, 26.04.2026\n15:00 – 17:00 Uhr \n2 Termine \nTeilnehmerInnen: max. 8 \nDozent: Ulrike Nasreddine \nPreis: EUR 36\,00 \n\nExperimentiert wird mit verschiedenen Techniken. \nTreffpunkt ist die Kunstwerkstatt im UG. der Villa Winter. \nBitte bringt Kleidung mit\, die fleckig werden darf. \nJetzt anmelden:\nPreis: 127\,00 € Teilnehmer: 8 &nbsp freie Plätze: 1 \n	Hinweis: Für diesen Inhalt ist JavaScript erforderlich.
URL:https://kronberger-malerkolonie.com/veranstaltung/drucken-workshop/2026-04-25/
CATEGORIES:KUNSTSCHULE,KURSE FÜR KINDER
ATTACH;FMTTYPE=image/jpeg:https://kronberger-malerkolonie.com/wp-content/uploads/2025/06/Drucken-Collage.jpg
END:VEVENT
BEGIN:VEVENT
DTSTART;TZID=Europe/Berlin:20260425T160000
DTEND;TZID=Europe/Berlin:20260425T173000
DTSTAMP:20260423T001641
CREATED:20251111T171747Z
LAST-MODIFIED:20260409T125412Z
UID:10004655-1777132800-1777138200@kronberger-malerkolonie.com
SUMMARY:Führung plus
DESCRIPTION:Führung plus\nNach einer einstündigen Führung durch die Ausstellung „Die Künstlerkolonie Worpswede. Von Otto Modersohn bis Heinrich Vogeler“ kommen Sie bei einem Glas Wein oder einem Erfrischungsgetränk und Salzgebäck in der Dauerausstellung mit unseren Kunsthistorikerinnen ins Gespräch.\n\n\nGebühr: 16 EUR (inkl. Eintritt)\n\nAufgrund begrenzter Teilnehmerzahl bitte unbedingt anmelden: Telefonisch unter 06173-92 94 90 zu den Öffnungszeiten oder per E-Mail.
URL:https://kronberger-malerkolonie.com/veranstaltung/fuehrung-plus/
CATEGORIES:FÜHRUNGEN,MUSEUM
ATTACH;FMTTYPE=image/jpeg:https://kronberger-malerkolonie.com/wp-content/uploads/2026/03/Fotografie-Slider.jpg
END:VEVENT
BEGIN:VEVENT
DTSTART;TZID=Europe/Berlin:20260509T150000
DTEND;TZID=Europe/Berlin:20260510T170000
DTSTAMP:20260423T001641
CREATED:20260312T145518Z
LAST-MODIFIED:20260416T164917Z
UID:10005503-1778338800-1778432400@kronberger-malerkolonie.com
SUMMARY:Workshop: Perspektive und Figur
DESCRIPTION:Sa.\, 09.05. – So.\, 10.05.2026\n15:00 – 17:00 Uhr \n2 Termine \nTeilnehmerInnen: max. 8 \nDozent: Ulrike Nasreddine \nPreis: EUR 36\,00 \n\nWie bringe ich das\, was ich sehe\, auf’s Papier? Dieser Workshop will es Euch einfacher machen. \nGezeichnet wird drinnen und draußen. Treffpunkt ist die Kunstwerkstatt im UG. der Villa Winter. \nJetzt anmelden:\nPreis: 127\,00 € Teilnehmer: 8 &nbsp freie Plätze: 1 \n	Hinweis: Für diesen Inhalt ist JavaScript erforderlich.
URL:https://kronberger-malerkolonie.com/veranstaltung/perspektive-workshop/2026-05-09/
CATEGORIES:KUNSTSCHULE,KURSE FÜR KINDER
ATTACH;FMTTYPE=image/jpeg:https://kronberger-malerkolonie.com/wp-content/uploads/2025/08/HFWS-Perspektive.jpg
END:VEVENT
BEGIN:VEVENT
DTSTART;TZID=Europe/Berlin:20260509T160000
DTEND;TZID=Europe/Berlin:20260509T170000
DTSTAMP:20260423T001641
CREATED:20260409T125100Z
LAST-MODIFIED:20260409T125129Z
UID:10005501-1778342400-1778346000@kronberger-malerkolonie.com
SUMMARY:Künstlergespräche
DESCRIPTION:Künstlergespräche\nGebühr EUR 4\,00 €\, inkl. Eintritt. \n\n\nBegrenzte Teilnehmerzahl. Anmeldung erforderlich. \n\n\nJetzt anmelden:\nPreis: 127\,00 € Teilnehmer: 8 &nbsp freie Plätze: 1 \n	Hinweis: Für diesen Inhalt ist JavaScript erforderlich.
URL:https://kronberger-malerkolonie.com/veranstaltung/kuenstlergespraech-2/
CATEGORIES:AKTUELLE AUSSTELLUNG,FÜHRUNGEN,MUSEUM
ATTACH;FMTTYPE=image/jpeg:https://kronberger-malerkolonie.com/wp-content/uploads/2026/03/Boris-Schoeppner.jpg
END:VEVENT
BEGIN:VEVENT
DTSTART;TZID=Europe/Berlin:20260513T123000
DTEND;TZID=Europe/Berlin:20260513T130000
DTSTAMP:20260423T001641
CREATED:20260409T121900Z
LAST-MODIFIED:20260409T121900Z
UID:10005500-1778675400-1778677200@kronberger-malerkolonie.com
SUMMARY:Führung: Kunst am Mittag
DESCRIPTION:Mittwochs\, 12:30 – 13:00 Uhr \nGebühr 8\,00 € inkl. Eintritt. \nKunst in der Mittagspause richtet sich besonders an die Berufstätigen (einzeln oder im Team) in Kronberg. An ausgewählten Mittwochen werden Ihnen in nur 30 Minuten in einer informativen Führung die wichtigsten Bilder der aktuellen Sonderausstellung vorgestellt. \nMit Esther Walldorf M.A. \nAufgrund begrenzter Teilnehmerzahl bitte unbedingt anmelden: Telefonisch unter 06173-92 94 90 zu den Öffnungszeiten oder per E-Mail.
URL:https://kronberger-malerkolonie.com/veranstaltung/kunst-am-mittag-2/
CATEGORIES:FÜHRUNGEN,MUSEUM
END:VEVENT
BEGIN:VEVENT
DTSTART;TZID=Europe/Berlin:20260626T170000
DTEND;TZID=Europe/Berlin:20260626T200000
DTSTAMP:20260423T001641
CREATED:20260312T130923Z
LAST-MODIFIED:20260312T155552Z
UID:10002994-1782493200-1782504000@kronberger-malerkolonie.com
SUMMARY:Workshop: Freiluftzeichnen
DESCRIPTION:Freiluftzeichnen\nZeichnen im Freien an zwei Frühlingstagen: Wir gehen nach draußen und arbeiten mit verschiedenen Materialien und Techniken. Wir schauen und setzen das Gesehene in Farbe\, Atmosphäre\, Licht und Schatten um. Treffpunkt: Treppenaufgang Villa Winter. \nFreitag: 26.06.2026\n17:00 – 20:00 Uhr \n1 Termin \n8 Plätze \nTreffpunkt: Treppenaufgang Villa Winter \nDozentin: Astrid Kemper \nPreis: EUR 29\,00 \nJetzt anmelden:\nPreis: 127\,00 € Teilnehmer: 8 &nbsp freie Plätze: 1 \n	Hinweis: Für diesen Inhalt ist JavaScript erforderlich.
URL:https://kronberger-malerkolonie.com/veranstaltung/freiluftzeichnen-2/
LOCATION:Kunstschule Kronberg im Taunus\, Heinrich-Winter-Straße 4a\, Kronberg im Taunus\, 61476\, Germany
CATEGORIES:KUNSTSCHULE,KURSE FÜR ERWACHSENE
ATTACH;FMTTYPE=image/jpeg:https://kronberger-malerkolonie.com/wp-content/uploads/2025/03/Freiluftzeichnen.jpg
ORGANIZER;CN="Stiftung Kronberger Malerkolonie / Kunstschule Kronberg im Taunus":MAILTO:kunstschule@kronberger-malerkolonie.com
END:VEVENT
END:VCALENDAR