BEGIN:VCALENDAR
VERSION:2.0
PRODID:-//Kronberger Malerkolonie - ECPv6.15.20//NONSGML v1.0//EN
CALSCALE:GREGORIAN
METHOD:PUBLISH
X-WR-CALNAME:Kronberger Malerkolonie
X-ORIGINAL-URL:https://kronberger-malerkolonie.com
X-WR-CALDESC:Veranstaltungen für Kronberger Malerkolonie
REFRESH-INTERVAL;VALUE=DURATION:PT1H
X-Robots-Tag:noindex
X-PUBLISHED-TTL:PT1H
BEGIN:VTIMEZONE
TZID:Europe/Berlin
BEGIN:DAYLIGHT
TZOFFSETFROM:+0100
TZOFFSETTO:+0200
TZNAME:CEST
DTSTART:20250330T010000
END:DAYLIGHT
BEGIN:STANDARD
TZOFFSETFROM:+0200
TZOFFSETTO:+0100
TZNAME:CET
DTSTART:20251026T010000
END:STANDARD
BEGIN:DAYLIGHT
TZOFFSETFROM:+0100
TZOFFSETTO:+0200
TZNAME:CEST
DTSTART:20260329T010000
END:DAYLIGHT
BEGIN:STANDARD
TZOFFSETFROM:+0200
TZOFFSETTO:+0100
TZNAME:CET
DTSTART:20261025T010000
END:STANDARD
BEGIN:DAYLIGHT
TZOFFSETFROM:+0100
TZOFFSETTO:+0200
TZNAME:CEST
DTSTART:20270328T010000
END:DAYLIGHT
BEGIN:STANDARD
TZOFFSETFROM:+0200
TZOFFSETTO:+0100
TZNAME:CET
DTSTART:20271031T010000
END:STANDARD
END:VTIMEZONE
BEGIN:VEVENT
DTSTART;TZID=Europe/Berlin:20260611T150000
DTEND;TZID=Europe/Berlin:20260611T163000
DTSTAMP:20260423T113801
CREATED:20260305T151222Z
LAST-MODIFIED:20260325T153152Z
UID:10005077-1781190000-1781195400@kronberger-malerkolonie.com
SUMMARY:KDo1S
DESCRIPTION:KDo1S\nDonnerstags: 16.04. – 18.06.2026\n15:00 – 16:30 Uhr \n8 Termine \nAlter: 4 – 7 Jahre \nTeilnehmer: max. 8 Kinder \nDozent: Susana Ortiz Maillo \nPreis: EUR 85\,00 \nJetzt anmelden:\nEine Anmeldung ist nicht erforderlich! Wir freuen uns auf Ihren Besuch.
URL:https://kronberger-malerkolonie.com/veranstaltung/kdo1s-3/2026-06-11/
LOCATION:Kunstschule Kronberg im Taunus\, Heinrich-Winter-Straße 4a\, Kronberg im Taunus\, 61476\, Germany
CATEGORIES:KUNSTSCHULE,KURSE FÜR KINDER
ATTACH;FMTTYPE=image/jpeg:https://kronberger-malerkolonie.com/wp-content/uploads/2025/03/Sunset-S.jpg
ORGANIZER;CN="Stiftung Kronberger Malerkolonie und Museumsgesellschaft Kronberg e. V.":MAILTO:info@kronberger-malerkolonie.com
END:VEVENT
BEGIN:VEVENT
DTSTART;TZID=Europe/Berlin:20260611T164500
DTEND;TZID=Europe/Berlin:20260611T181500
DTSTAMP:20260423T113801
CREATED:20260311T144009Z
LAST-MODIFIED:20260325T120243Z
UID:10005447-1781196300-1781201700@kronberger-malerkolonie.com
SUMMARY:KDo2S
DESCRIPTION:KDo2S\nDonnerstags: 16.04. – 18.06.2026\n16:45 – 18:15 Uhr \n8 Termine \nAlter: 10 – 16 Jahre \nTeilnehmer: max. 12 Kinder \nDozent: Susana Ortiz Maillo \nPreis: EUR 85\,00 \nJetzt anmelden:\nEine Anmeldung ist nicht erforderlich! Wir freuen uns auf Ihren Besuch.
URL:https://kronberger-malerkolonie.com/veranstaltung/kdo2s/2026-06-11/
LOCATION:Kunstschule Kronberg im Taunus\, Heinrich-Winter-Straße 4a\, Kronberg im Taunus\, 61476\, Germany
CATEGORIES:KUNSTSCHULE,KURSE FÜR KINDER
ATTACH;FMTTYPE=image/jpeg:https://kronberger-malerkolonie.com/wp-content/uploads/2026/03/Header-Kunstschule-Fruehjahr-KDo2S.jpg
ORGANIZER;CN="Stiftung Kronberger Malerkolonie und Museumsgesellschaft Kronberg e. V.":MAILTO:info@kronberger-malerkolonie.com
END:VEVENT
BEGIN:VEVENT
DTSTART;TZID=Europe/Berlin:20260611T184500
DTEND;TZID=Europe/Berlin:20260611T210000
DTSTAMP:20260423T113801
CREATED:20260312T133036Z
LAST-MODIFIED:20260409T114053Z
UID:10005467-1781203500-1781211600@kronberger-malerkolonie.com
SUMMARY:Abstrakt 2
DESCRIPTION:Faszination Acrylmalerei\nFrei und locker malen und dem eigenen Bild Ausdruck verleihen ist Ziel dieses Kurses. Acrylfarben bieten ideale Voraussetzungen\, um zu einer mutigen Malweise zu finden und rasch sichtbare Fortschritte zu erzielen. Gemalt wird nach eigenen Fotovorlagen. Im Vordergrund stehen der spielerische Umgang mit der Bildvorlage und die individuelle Umsetzung zu einem ausdrucksstarken Bild. \nDonnerstags\, 16.04. – 18.06.2026\n18:45 – 21:00 Uhr \n8 Termine \nTeilnehmerInnen: max. 9 \nDozent: Kathrin Lieske \nPreis: EUR 127\,00 \nJetzt anmelden:\nEine Anmeldung ist nicht erforderlich! Wir freuen uns auf Ihren Besuch.
URL:https://kronberger-malerkolonie.com/veranstaltung/abstrakt-2-2/2026-06-11/
LOCATION:Kunstschule Kronberg im Taunus\, Heinrich-Winter-Straße 4a\, Kronberg im Taunus\, 61476\, Germany
CATEGORIES:KUNSTSCHULE,KURSE FÜR ERWACHSENE
ATTACH;FMTTYPE=image/jpeg:https://kronberger-malerkolonie.com/wp-content/uploads/2026/03/Abstrakt-2.jpg
ORGANIZER;CN="Stiftung Kronberger Malerkolonie und Museumsgesellschaft Kronberg e. V.":MAILTO:info@kronberger-malerkolonie.com
END:VEVENT
BEGIN:VEVENT
DTSTART;TZID=Europe/Berlin:20260613T160000
DTEND;TZID=Europe/Berlin:20260613T173000
DTSTAMP:20260423T113801
CREATED:20250314T100722Z
LAST-MODIFIED:20260409T115140Z
UID:10005498-1781366400-1781371800@kronberger-malerkolonie.com
SUMMARY:Führung: Kunst für Kinder
DESCRIPTION:Kunst für Kinder (ab 5 Jahren)\nSamstags\, 16:00 – 17:30 Uhr \nKinderführung im Museum und anschließende Malaktion in der Kunstwerkstatt. \n\n\nGebühr EUR 4\,00 \nAufgrund begrenzter Teilnehmerzahl bitte unbedingt anmelden: Telefonisch unter 06173-92 94 90 zu den Öffnungszeiten oder per E-Mail \n\n\nJetzt anmelden:\nEine Anmeldung ist nicht erforderlich! Wir freuen uns auf Ihren Besuch.
URL:https://kronberger-malerkolonie.com/veranstaltung/kunst-fuer-kinder-2/2026-06-13/
LOCATION:Hessen
CATEGORIES:FÜHRUNGEN,MUSEUM
ATTACH;FMTTYPE=image/jpeg:https://kronberger-malerkolonie.com/wp-content/uploads/2025/02/Kunst_fuer_Kinder-1200x800-1.jpg
END:VEVENT
BEGIN:VEVENT
DTSTART;TZID=Europe/Berlin:20260626T170000
DTEND;TZID=Europe/Berlin:20260626T200000
DTSTAMP:20260423T113801
CREATED:20260312T130923Z
LAST-MODIFIED:20260312T155552Z
UID:10002994-1782493200-1782504000@kronberger-malerkolonie.com
SUMMARY:Workshop: Freiluftzeichnen
DESCRIPTION:Freiluftzeichnen\nZeichnen im Freien an zwei Frühlingstagen: Wir gehen nach draußen und arbeiten mit verschiedenen Materialien und Techniken. Wir schauen und setzen das Gesehene in Farbe\, Atmosphäre\, Licht und Schatten um. Treffpunkt: Treppenaufgang Villa Winter. \nFreitag: 26.06.2026\n17:00 – 20:00 Uhr \n1 Termin \n8 Plätze \nTreffpunkt: Treppenaufgang Villa Winter \nDozentin: Astrid Kemper \nPreis: EUR 29\,00 \nJetzt anmelden:\nEine Anmeldung ist nicht erforderlich! Wir freuen uns auf Ihren Besuch.
URL:https://kronberger-malerkolonie.com/veranstaltung/freiluftzeichnen-2/
LOCATION:Kunstschule Kronberg im Taunus\, Heinrich-Winter-Straße 4a\, Kronberg im Taunus\, 61476\, Germany
CATEGORIES:KUNSTSCHULE,KURSE FÜR ERWACHSENE
ATTACH;FMTTYPE=image/jpeg:https://kronberger-malerkolonie.com/wp-content/uploads/2025/03/Freiluftzeichnen.jpg
ORGANIZER;CN="Stiftung Kronberger Malerkolonie / Kunstschule Kronberg im Taunus":MAILTO:kunstschule@kronberger-malerkolonie.com
END:VEVENT
BEGIN:VEVENT
DTSTART;TZID=Europe/Berlin:20260803T090000
DTEND;TZID=Europe/Berlin:20260803T130000
DTSTAMP:20260423T113801
CREATED:20260312T121428Z
LAST-MODIFIED:20260326T135254Z
UID:10003244-1785747600-1785762000@kronberger-malerkolonie.com
SUMMARY:Sommerferien Workshop | SFWS 05
DESCRIPTION:SFWS 05\nNähen- mit und ohne Nähmaschine -Filzen\, Sticken und Färben \nMo.\, 03.08. – Fr.\, 07.08.2026\n09:00 – 13:00 Uhr \n5 Termine \nAlter: ab 8 Jahre \nTeilnehmer: max. 8 Kinder \nDozent: Bernd Reich \nPreis: EUR 160\,00 \n\nGetränk und Pausenbrot nicht vergessen! \nJetzt anmelden:\nEine Anmeldung ist nicht erforderlich! Wir freuen uns auf Ihren Besuch.
URL:https://kronberger-malerkolonie.com/veranstaltung/sommerferienworkshop-sfws-05-2/
LOCATION:Kunstschule Kronberg im Taunus\, Heinrich-Winter-Straße 4a\, Kronberg im Taunus\, 61476\, Germany
CATEGORIES:KUNSTSCHULE,KURSE FÜR KINDER
ORGANIZER;CN="Stiftung Kronberger Malerkolonie und Museumsgesellschaft Kronberg e. V.":MAILTO:info@kronberger-malerkolonie.com
END:VEVENT
END:VCALENDAR